Workbook

Sheet 由资产编码设备（净值截止202606）
A1: 序号 | B1: 设备编码 | C1: 资产编码 | D1: 资产名称 | E1: 规格型号 | F1: 生产厂家或供应商 | G1: 数量
A2: 1 | B2: JMYC/DZ 05-0021 | C2: 0500115 | D2: =VLOOKUP(C2,[1]卡片管理!$C:$D,2,FALSE) -> 长虹空调 | E2: =VLOOKUP(C2,[1]卡片管理!$C:$E,3,FALSE) -> KFR-35GW | F2: 四川长虹空调有限公司 | G2: 1
A3: 2 | B3: JMYC/DZ 05-0180 | C3: 0500108 | D3: =VLOOKUP(C3,[1]卡片管理!$C:$D,2,FALSE) -> 长虹空调 | E3: =VLOOKUP(C3,[1]卡片管理!$C:$E,3,FALSE) -> KFR-35GM | F3: 四川长虹空调有限公司 | G3: 1
A4: 3 | B4: JMYC/DZ 05-0181 | C4: 0500107 | D4: =VLOOKUP(C4,[1]卡片管理!$C:$D,2,FALSE) -> 长虹空调 | E4: =VLOOKUP(C4,[1]卡片管理!$C:$E,3,FALSE) -> KFR-50GM | F4: 四川长虹空调有限公司 | G4: 1
A5: 4 | B5: JMYC/DZ 05-0182 | C5: 0500082 | D5: =VLOOKUP(C5,[1]卡片管理!$C:$D,2,FALSE) -> 长虹空调 | F5: 四川长虹空调有限公司 | G5: 1
A6: 5 | B6: JMYC/DZ 05-0183 | C6: 0500081 | D6: =VLOOKUP(C6,[1]卡片管理!$C:$D,2,FALSE) -> 长虹空调 | F6: 四川长虹空调有限公司 | G6: 1
A7: 6 | B7: JMYC/DZ 05-0185 | C7: 0500085 | D7: =VLOOKUP(C7,[1]卡片管理!$C:$D,2,FALSE) -> 长虹空调 | E7: =VLOOKUP(C7,[1]卡片管理!$C:$E,3,FALSE) -> 1.5P冷暖含铜管 | F7: 四川长虹空调有限公司 | G7: 1
A8: 7 | B8: JMYC/DZ 05-0186 | C8: 0500114 | D8: =VLOOKUP(C8,[1]卡片管理!$C:$D,2,FALSE) -> 长虹空调 | E8: =VLOOKUP(C8,[1]卡片管理!$C:$E,3,FALSE) -> KFR-50GW | F8: 四川长虹空调有限公司 | G8: 1
A9: 8 | B9: JMYC/DZ 05-0200 | C9: 0500083 | D9: =VLOOKUP(C9,[1]卡片管理!$C:$D,2,FALSE) -> 长虹空调 | F9: 四川长虹空调有限公司 | G9: 1
A10: 9 | B10: JMYC/DZ 05-0201 | C10: 0500106 | D10: =VLOOKUP(C10,[1]卡片管理!$C:$D,2,FALSE) -> 长虹空调 | E10: =VLOOKUP(C10,[1]卡片管理!$C:$E,3,FALSE) -> KFR-50GM | F10: 四川长虹空调有限公司 | G10: 1
A11: 10 | B11: JMYC/DZ 05-0210 | C11: 0500109 | D11: =VLOOKUP(C11,[1]卡片管理!$C:$D,2,FALSE) -> 长虹空调 | E11: =VLOOKUP(C11,[1]卡片管理!$C:$E,3,FALSE) -> KFR-35GM | F11: 四川长虹空调有限公司 | G11: 1
A12: 11 | B12: JMYC/DZ 05-0379 | C12: 0200038 | D12: =VLOOKUP(C12,[1]卡片管理!$C:$D,2,FALSE) -> 空调 | E12: =VLOOKUP(C12,[1]卡片管理!$C:$E,3,FALSE) -> JMYC/DZ 05-0379 | F12: 重庆秉瑞冷暖设备有限公司 | G12: 1
A13: 12 | B13: JMYC/DZ 05-0629 | C13: 0200051 | D13: =VLOOKUP(C13,[1]卡片管理!$C:$D,2,FALSE) -> 空调 | E13: =VLOOKUP(C13,[1]卡片管理!$C:$E,3,FALSE) -> KFR-72GW/1-3 JMYC/DZ 05-0629 | F13: 重庆秉瑞冷暖设备有限公司 | G13: 1
A14: 13 | B14: JMYC/SC 03-0236 | C14: 0300188 | D14: =VLOOKUP(C14,[1]卡片管理!$C:$D,2,FALSE) -> 无热再生吸干机 | E14: =VLOOKUP(C14,[1]卡片管理!$C:$E,3,FALSE) -> HAD-3WXF | F14: 重庆云湖机械有限公司 | G14: 1
A15: 14 | B15: JMYC/SC 03-0237 | C15: 0300189 | D15: =VLOOKUP(C15,[1]卡片管理!$C:$D,2,FALSE) -> 冷干机及配套三级过滤器 | E15: =VLOOKUP(C15,[1]卡片管理!$C:$E,3,FALSE) -> HAD3HTF | F15: 重庆云湖机械有限公司 | G15: 1
A16: 15 | B16: JMYC/SC 03-0376 | C16: 0500144 | D16: =VLOOKUP(C16,[1]卡片管理!$C:$D,2,FALSE) -> 灰尘处理器 | F16: 沈阳金端义齿设备有限公司 | G16: 1
A17: 16 | B17: JMYC/SC 03-0376 | C17: 0500143 | D17: =VLOOKUP(C17,[1]卡片管理!$C:$D,2,FALSE) -> 灰尘处理器 | F17: 沈阳金端义齿设备有限公司 | G17: 1
A18: 17 | B18: JMYC/SC 03-0376 | C18: 0500142 | D18: =VLOOKUP(C18,[1]卡片管理!$C:$D,2,FALSE) -> 灰尘处理器 | F18: 沈阳金端义齿设备有限公司 | G18: 1
A19: 18 | B19: JMYC/SC 03-0376 | C19: 0500141 | D19: =VLOOKUP(C19,[1]卡片管理!$C:$D,2,FALSE) -> 灰尘处理器 | F19: 沈阳金端义齿设备有限公司 | G19: 1
A20: 19 | B20: JMYC/SC 03-0402 | C20: 0500137 | D20: =VLOOKUP(C20,[1]卡片管理!$C:$D,2,FALSE) -> 中央空调 | F20: 重庆金永机电设备有限公司 | G20: 1
A21: 20 | B21: JMYC/SC 03-0429 | C21: 0500046 | D21: =VLOOKUP(C21,[1]卡片管理!$C:$D,2,FALSE) -> 全热交换器 | E21: =VLOOKUP(C21,[1]卡片管理!$C:$E,3,FALSE) -> FY-35ZUIC | F21: 重庆嘉代通风设备 | G21: 1
A22: 21 | B22: JMYC/SC 03-0514 | C22: 0300024 | D22: =VLOOKUP(C22,[1]卡片管理!$C:$D,2,FALSE) -> 卓耐新风全热双向流 | E22: =VLOOKUP(C22,[1]卡片管理!$C:$E,3,FALSE) -> ZD-DE-1500 | F22: 重庆平凡科技有限公司 | G22: 1
A23: 22 | B23: JMYC/SC 03-0515 | C23: 0300025 | D23: =VLOOKUP(C23,[1]卡片管理!$C:$D,2,FALSE) -> 卓耐新风全热双向流 | E23: =VLOOKUP(C23,[1]卡片管理!$C:$E,3,FALSE) -> ZD-DE-1500 | F23: 重庆平凡科技有限公司 | G23: 1
A24: 23 | B24: JMYC/SC 03-0516 | C24: 0300026 | D24: =VLOOKUP(C24,[1]卡片管理!$C:$D,2,FALSE) -> 卓耐新风全热双向流 | E24: =VLOOKUP(C24,[1]卡片管理!$C:$E,3,FALSE) -> ZD-DE-1500 | F24: 重庆平凡科技有限公司 | G24: 1
A25: 24 | B25: JMYC/SC 03-0517 | C25: 0300027 | D25: =VLOOKUP(C25,[1]卡片管理!$C:$D,2,FALSE) -> 卓耐排风系统 | E25: =VLOOKUP(C25,[1]卡片管理!$C:$E,3,FALSE) -> ZD-DX-2200 | F25: 重庆平凡科技有限公司 | G25: 1
A26: 25 | B26: JMYC/SC 03-0518 | C26: 0300028 | D26: =VLOOKUP(C26,[1]卡片管理!$C:$D,2,FALSE) -> 卓耐排风系统 | E26: =VLOOKUP(C26,[1]卡片管理!$C:$E,3,FALSE) -> ZD-DX-2200 | F26: 重庆平凡科技有限公司 | G26: 1
A27: 26 | B27: JMYC/SC 03-0555 | C27: 0200015 | D27: =VLOOKUP(C27,[1]卡片管理!$C:$D,2,FALSE) -> 窗式空调 | E27: =VLOOKUP(C27,[1]卡片管理!$C:$E,3,FALSE) -> JMYC/SC 03-0555 | F27: 淘宝 | G27: 1
A28: 27 | B28: JMYC/SC 03-0561 | C28: 0200017 | D28: =VLOOKUP(C28,[1]卡片管理!$C:$D,2,FALSE) -> 卓耐新风设备 | E28: =VLOOKUP(C28,[1]卡片管理!$C:$E,3,FALSE) -> znde-1500 JMYC/SC 03-0561 | F28: 重庆平凡科技有限公司 | G28: 1
A29: 28 | B29: JMYC/SC 03-0574 | C29: 0200029 | D29: =VLOOKUP(C29,[1]卡片管理!$C:$D,2,FALSE) -> 美的空调 | E29: =VLOOKUP(C29,[1]卡片管理!$C:$E,3,FALSE) -> RFD-120QW/SDN8Y-D(D3) | F29: 重庆金永机电设备有限公司 | G29: 1
A30: 29 | B30: JMYC/SC 03-0575 | C30: 0200030 | D30: =VLOOKUP(C30,[1]卡片管理!$C:$D,2,FALSE) -> 美的空调 | E30: =VLOOKUP(C30,[1]卡片管理!$C:$E,3,FALSE) -> RFD-120QW/SDN8Y-D(D3) | F30: 重庆金永机电设备有限公司 | G30: 1
A31: 30 | B31: JMYC/SC 03-0576 | C31: 0200031 | D31: =VLOOKUP(C31,[1]卡片管理!$C:$D,2,FALSE) -> 美的空调 | E31: =VLOOKUP(C31,[1]卡片管理!$C:$E,3,FALSE) -> RFD-120QW/SDN8Y-D(D3) | F31: 重庆金永机电设备有限公司 | G31: 1
A32: 31 | B32: JMYC/SC 03-0586 | C32: 0200027 | D32: =VLOOKUP(C32,[1]卡片管理!$C:$D,2,FALSE) -> 三叶风新风设备 | E32: =VLOOKUP(C32,[1]卡片管理!$C:$E,3,FALSE) -> JMYC/SC 03-0586 | F32: 重庆平凡科技有限公司 | G32: 1
... A50: 49 | B50: JMYC/SC 03-0681 | C50: 0200056 | D50: =VLOOKUP(C50,[1]卡片管理!$C:$D,2,FALSE) -> 冷干机 | E50: =VLOOKUP(C50,[1]卡片管理!$C:$E,3,FALSE) -> JMYC/SC 03-0681 | F50: 重庆谭森机电有限公司 | G50: 1
